BEGIN:VCALENDAR
VERSION:2.0
PRODID:-//St. Luke&#039;s Lutheran Church - ECPv6.15.20//NONSGML v1.0//EN
CALSCALE:GREGORIAN
METHOD:PUBLISH
X-ORIGINAL-URL:https://stlukesnewrochelle.org
X-WR-CALDESC:Events for St. Luke&#039;s Lutheran Church
REFRESH-INTERVAL;VALUE=DURATION:PT1H
X-Robots-Tag:noindex
X-PUBLISHED-TTL:PT1H
BEGIN:VTIMEZONE
TZID:UTC
BEGIN:STANDARD
TZOFFSETFROM:+0000
TZOFFSETTO:+0000
TZNAME:UTC
DTSTART:20180101T000000
END:STANDARD
END:VTIMEZONE
BEGIN:VEVENT
DTSTART;TZID=UTC:20191011T191500
DTEND;TZID=UTC:20191011T203000
DTSTAMP:20260420T110135
CREATED:20191005T161717Z
LAST-MODIFIED:20191005T161717Z
UID:437-1570821300-1570825800@stlukesnewrochelle.org
SUMMARY:Boy Scouts
DESCRIPTION:
URL:https://stlukesnewrochelle.org/event/boy-scouts-5/
END:VEVENT
BEGIN:VEVENT
DTSTART;TZID=UTC:20191012T100000
DTEND;TZID=UTC:20191012T110000
DTSTAMP:20260420T110135
CREATED:20191005T162321Z
LAST-MODIFIED:20191005T162321Z
UID:448-1570874400-1570878000@stlukesnewrochelle.org
SUMMARY:AA Men's Group
DESCRIPTION:
URL:https://stlukesnewrochelle.org/event/aa-mens-group-2/
END:VEVENT
BEGIN:VEVENT
DTSTART;TZID=UTC:20191013T090000
DTEND;TZID=UTC:20191013T104500
DTSTAMP:20260420T110135
CREATED:20191005T172147Z
LAST-MODIFIED:20191005T172147Z
UID:530-1570957200-1570963500@stlukesnewrochelle.org
SUMMARY:Sr. Choir Rehearsal
DESCRIPTION:
URL:https://stlukesnewrochelle.org/event/sr-choir-rehearsal-2/
END:VEVENT
BEGIN:VEVENT
DTSTART;TZID=UTC:20191013T100000
DTEND;TZID=UTC:20191013T110000
DTSTAMP:20260420T110135
CREATED:20191005T162924Z
LAST-MODIFIED:20191005T162924Z
UID:458-1570960800-1570964400@stlukesnewrochelle.org
SUMMARY:Eucharist & Service For Healing
DESCRIPTION:
URL:https://stlukesnewrochelle.org/event/eucharist-service-for-healing/
END:VEVENT
BEGIN:VEVENT
DTSTART;TZID=UTC:20191013T111500
DTEND;TZID=UTC:20191013T120000
DTSTAMP:20260420T110135
CREATED:20191005T172421Z
LAST-MODIFIED:20191005T172421Z
UID:536-1570965300-1570968000@stlukesnewrochelle.org
SUMMARY:Jr. Choir Rehearsal
DESCRIPTION:
URL:https://stlukesnewrochelle.org/event/jr-choir-rehearsal/
END:VEVENT
BEGIN:VEVENT
DTSTART;TZID=UTC:20191013T111500
DTEND;TZID=UTC:20191013T120000
DTSTAMP:20260420T110135
CREATED:20191005T172634Z
LAST-MODIFIED:20191005T172634Z
UID:542-1570965300-1570968000@stlukesnewrochelle.org
SUMMARY:Fellowship Coffee Hour
DESCRIPTION:
URL:https://stlukesnewrochelle.org/event/fellowship-coffee-hour/
END:VEVENT
BEGIN:VEVENT
DTSTART;TZID=UTC:20191013T113000
DTEND;TZID=UTC:20191013T123000
DTSTAMP:20260420T110135
CREATED:20191005T170342Z
LAST-MODIFIED:20191005T170342Z
UID:509-1570966200-1570969800@stlukesnewrochelle.org
SUMMARY:Ways of Love series: Suicide Prevention
DESCRIPTION:
URL:https://stlukesnewrochelle.org/event/ways-of-love-series-suicide-prevention/
END:VEVENT
BEGIN:VEVENT
DTSTART;TZID=UTC:20191014T080000
DTEND;TZID=UTC:20191014T170000
DTSTAMP:20260420T110135
CREATED:20191005T163640Z
LAST-MODIFIED:20191005T163640Z
UID:477-1571040000-1571072400@stlukesnewrochelle.org
SUMMARY:Columbus Day-Offices Closed
DESCRIPTION:
URL:https://stlukesnewrochelle.org/event/columbus-day-offices-closed/
END:VEVENT
BEGIN:VEVENT
DTSTART;TZID=UTC:20191014T190000
DTEND;TZID=UTC:20191014T200000
DTSTAMP:20260420T110135
CREATED:20191005T163422Z
LAST-MODIFIED:20191005T163422Z
UID:470-1571079600-1571083200@stlukesnewrochelle.org
SUMMARY:AA Meeting
DESCRIPTION:
URL:https://stlukesnewrochelle.org/event/aa-meeting-2/
END:VEVENT
BEGIN:VEVENT
DTSTART;TZID=UTC:20191016T160000
DTEND;TZID=UTC:20191016T170000
DTSTAMP:20260420T110135
CREATED:20191005T164042Z
LAST-MODIFIED:20191005T164042Z
UID:485-1571241600-1571245200@stlukesnewrochelle.org
SUMMARY:Confirmation Class
DESCRIPTION:
URL:https://stlukesnewrochelle.org/event/confirmation-class/
END:VEVENT
BEGIN:VEVENT
DTSTART;TZID=UTC:20191017T193000
DTEND;TZID=UTC:20191017T203000
DTSTAMP:20260420T110135
CREATED:20191005T164605Z
LAST-MODIFIED:20191005T164605Z
UID:499-1571340600-1571344200@stlukesnewrochelle.org
SUMMARY:The Way of Scripture (last class)
DESCRIPTION:
URL:https://stlukesnewrochelle.org/event/the-way-of-scripture-last-class/
END:VEVENT
BEGIN:VEVENT
DTSTART;TZID=UTC:20191018T170000
DTEND;TZID=UTC:20191020T170000
DTSTAMP:20260420T110135
CREATED:20191005T162631Z
LAST-MODIFIED:20191005T162631Z
UID:454-1571418000-1571590800@stlukesnewrochelle.org
SUMMARY:St. Luke's Family Retreat
DESCRIPTION:
URL:https://stlukesnewrochelle.org/event/st-lukes-family-retreat/
LOCATION:Eddy Farm Retreat Center
END:VEVENT
BEGIN:VEVENT
DTSTART;TZID=UTC:20191018T191500
DTEND;TZID=UTC:20191018T203000
DTSTAMP:20260420T110135
CREATED:20191005T161444Z
LAST-MODIFIED:20191005T161900Z
UID:433-1571426100-1571430600@stlukesnewrochelle.org
SUMMARY:Boy Scouts
DESCRIPTION:
URL:https://stlukesnewrochelle.org/event/boy-scouts-4/
END:VEVENT
BEGIN:VEVENT
DTSTART;TZID=UTC:20191019T100000
DTEND;TZID=UTC:20191019T110000
DTSTAMP:20260420T110135
CREATED:20191005T162359Z
LAST-MODIFIED:20191005T162359Z
UID:450-1571479200-1571482800@stlukesnewrochelle.org
SUMMARY:AA Men's Group
DESCRIPTION:
URL:https://stlukesnewrochelle.org/event/aa-mens-group-3/
END:VEVENT
BEGIN:VEVENT
DTSTART;TZID=UTC:20191020T090000
DTEND;TZID=UTC:20191020T104500
DTSTAMP:20260420T110135
CREATED:20191005T172225Z
LAST-MODIFIED:20191005T172225Z
UID:532-1571562000-1571568300@stlukesnewrochelle.org
SUMMARY:Sr. Choir Rehearsal
DESCRIPTION:
URL:https://stlukesnewrochelle.org/event/sr-choir-rehearsal-3/
END:VEVENT
BEGIN:VEVENT
DTSTART;TZID=UTC:20191020T100000
DTEND;TZID=UTC:20191020T110000
DTSTAMP:20260420T110135
CREATED:20191005T163002Z
LAST-MODIFIED:20191005T163002Z
UID:460-1571565600-1571569200@stlukesnewrochelle.org
SUMMARY:Eucharist
DESCRIPTION:
URL:https://stlukesnewrochelle.org/event/eucharist-4/
END:VEVENT
BEGIN:VEVENT
DTSTART;TZID=UTC:20191020T100000
DTEND;TZID=UTC:20191020T110000
DTSTAMP:20260420T110135
CREATED:20191005T171450Z
LAST-MODIFIED:20191005T171450Z
UID:524-1571565600-1571569200@stlukesnewrochelle.org
SUMMARY:Sunday School
DESCRIPTION:
URL:https://stlukesnewrochelle.org/event/sunday-school/
END:VEVENT
BEGIN:VEVENT
DTSTART;TZID=UTC:20191020T111500
DTEND;TZID=UTC:20191020T120000
DTSTAMP:20260420T110135
CREATED:20191005T170648Z
LAST-MODIFIED:20191005T170648Z
UID:515-1571570100-1571572800@stlukesnewrochelle.org
SUMMARY:Cooking for HOPE
DESCRIPTION:
URL:https://stlukesnewrochelle.org/event/cooking-for-hope-2/
END:VEVENT
BEGIN:VEVENT
DTSTART;TZID=UTC:20191020T111500
DTEND;TZID=UTC:20191020T120000
DTSTAMP:20260420T110135
CREATED:20191005T172502Z
LAST-MODIFIED:20191005T172502Z
UID:538-1571570100-1571572800@stlukesnewrochelle.org
SUMMARY:Jr. Choir Rehearsal
DESCRIPTION:
URL:https://stlukesnewrochelle.org/event/jr-choir-rehearsal-2/
END:VEVENT
BEGIN:VEVENT
DTSTART;TZID=UTC:20191020T111500
DTEND;TZID=UTC:20191020T120000
DTSTAMP:20260420T110135
CREATED:20191005T173307Z
LAST-MODIFIED:20191005T173307Z
UID:546-1571570100-1571572800@stlukesnewrochelle.org
SUMMARY:Fellowship Coffee Hour
DESCRIPTION:
URL:https://stlukesnewrochelle.org/event/fellowship-coffee-hour-2/
END:VEVENT
BEGIN:VEVENT
DTSTART;TZID=UTC:20191021T190000
DTEND;TZID=UTC:20191021T200000
DTSTAMP:20260420T110135
CREATED:20191005T163457Z
LAST-MODIFIED:20191005T163457Z
UID:472-1571684400-1571688000@stlukesnewrochelle.org
SUMMARY:AA Meeting
DESCRIPTION:
URL:https://stlukesnewrochelle.org/event/aa-meeting-3/
END:VEVENT
BEGIN:VEVENT
DTSTART;TZID=UTC:20191023T160000
DTEND;TZID=UTC:20191023T170000
DTSTAMP:20260420T110135
CREATED:20191005T164116Z
LAST-MODIFIED:20191005T164116Z
UID:487-1571846400-1571850000@stlukesnewrochelle.org
SUMMARY:Confirmation Class
DESCRIPTION:
URL:https://stlukesnewrochelle.org/event/confirmation-class-2/
END:VEVENT
BEGIN:VEVENT
DTSTART;TZID=UTC:20191023T193000
DTEND;TZID=UTC:20191023T203000
DTSTAMP:20260420T110135
CREATED:20191005T170729Z
LAST-MODIFIED:20191005T170729Z
UID:517-1571859000-1571862600@stlukesnewrochelle.org
SUMMARY:Book Club
DESCRIPTION:
URL:https://stlukesnewrochelle.org/event/book-club/
END:VEVENT
BEGIN:VEVENT
DTSTART;TZID=UTC:20191025T191500
DTEND;TZID=UTC:20191025T203000
DTSTAMP:20260420T110135
CREATED:20191005T162121Z
LAST-MODIFIED:20191005T162121Z
UID:444-1572030900-1572035400@stlukesnewrochelle.org
SUMMARY:Boy Scouts
DESCRIPTION:
URL:https://stlukesnewrochelle.org/event/boy-scouts-7/
END:VEVENT
BEGIN:VEVENT
DTSTART;TZID=UTC:20191026T100000
DTEND;TZID=UTC:20191026T110000
DTSTAMP:20260420T110135
CREATED:20191005T162438Z
LAST-MODIFIED:20191005T162438Z
UID:452-1572084000-1572087600@stlukesnewrochelle.org
SUMMARY:AA Men's Group
DESCRIPTION:
URL:https://stlukesnewrochelle.org/event/aa-mens-group-4/
END:VEVENT
BEGIN:VEVENT
DTSTART;TZID=UTC:20191027T090000
DTEND;TZID=UTC:20191027T094500
DTSTAMP:20260420T110135
CREATED:20191005T172308Z
LAST-MODIFIED:20191005T172308Z
UID:534-1572166800-1572169500@stlukesnewrochelle.org
SUMMARY:Sr. Choir Rehearsal
DESCRIPTION:
URL:https://stlukesnewrochelle.org/event/sr-choir-rehearsal-4/
END:VEVENT
BEGIN:VEVENT
DTSTART;TZID=UTC:20191027T100000
DTEND;TZID=UTC:20191027T100000
DTSTAMP:20260420T110135
CREATED:20191005T163122Z
LAST-MODIFIED:20191005T163122Z
UID:462-1572170400-1572170400@stlukesnewrochelle.org
SUMMARY:Reformation Sunday & Eucharist
DESCRIPTION:
URL:https://stlukesnewrochelle.org/event/reformation-sunday-eucharist/
END:VEVENT
BEGIN:VEVENT
DTSTART;TZID=UTC:20191027T100000
DTEND;TZID=UTC:20191027T110000
DTSTAMP:20260420T110135
CREATED:20191005T170545Z
LAST-MODIFIED:20191005T170545Z
UID:513-1572170400-1572174000@stlukesnewrochelle.org
SUMMARY:New Member Welcome
DESCRIPTION:
URL:https://stlukesnewrochelle.org/event/new-member-welcome/
END:VEVENT
BEGIN:VEVENT
DTSTART;TZID=UTC:20191027T100000
DTEND;TZID=UTC:20191027T110000
DTSTAMP:20260420T110135
CREATED:20191005T171529Z
LAST-MODIFIED:20191005T171529Z
UID:526-1572170400-1572174000@stlukesnewrochelle.org
SUMMARY:Sunday School
DESCRIPTION:
URL:https://stlukesnewrochelle.org/event/sunday-school-2/
END:VEVENT
BEGIN:VEVENT
DTSTART;TZID=UTC:20191027T111500
DTEND;TZID=UTC:20191027T120000
DTSTAMP:20260420T110135
CREATED:20191005T172544Z
LAST-MODIFIED:20191005T172544Z
UID:540-1572174900-1572177600@stlukesnewrochelle.org
SUMMARY:Jr. Choir Rehearsal
DESCRIPTION:
URL:https://stlukesnewrochelle.org/event/jr-choir-rehearsal-3/
END:VEVENT
END:VCALENDAR